BEGIN:VCALENDAR
VERSION:2.0
PRODID:-//Tukios.com/
BEGIN:VEVENT
UID:59733cf3-273e-40d4-80f7-d7972f7f2a45@www.mundenfuneralhome.com
DTSTAMP:20260420T234637Z
DTSTART:20260424T150000Z
DTEND:20260424T160000Z
SUMMARY:Funeral Service
DESCRIPTION:
URL:https://www.mundenfuneralhome.com/obituaries/roy-cannon-sr
LOCATION:Broad Creek Methodist Church  562 Broad Creek Loop Road  Newport 
	NC 28570
GEO:34.7209777;-76.9337196
END:VEVENT
END:VCALENDAR