BEGIN:VCALENDAR
VERSION:2.0
PRODID:-//Tukios.com/
BEGIN:VEVENT
UID:277e21e2-176f-4475-ba85-6e87530dae40@www.mundenfuneralhome.com
DTSTAMP:20260420T235431Z
DTSTART:20260424T140000Z
DTEND:20260424T150000Z
SUMMARY:Visitation
DESCRIPTION:
URL:https://www.mundenfuneralhome.com/obituaries/roy-cannon-sr
LOCATION:Broad Creek Methodist Church  562 Broad Creek Loop Road  Newport 
	NC 28570
GEO:34.7209777;-76.9337196
END:VEVENT
END:VCALENDAR