BEGIN:VCALENDAR
VERSION:2.0
PRODID:-//Tukios.com/
BEGIN:VEVENT
UID:3d40ba72-845f-4ffc-a552-c0e8656cd980@www.mundenfuneralhome.com
DTSTAMP:20260421T054944Z
DTSTART:20260425T140000Z
DTEND:20260425T160000Z
SUMMARY:Visitation
DESCRIPTION:
URL:https://www.mundenfuneralhome.com/obituaries/mary-ann-robinson
LOCATION:Munden Funeral Home & Crematory 2112 Arendell St.  Morehead City 
	NC 28557
GEO:34.7233349;-76.7322994
END:VEVENT
END:VCALENDAR