BEGIN:VCALENDAR
VERSION:2.0
PRODID:-//Tukios.com/
BEGIN:VEVENT
UID:7308f5a5-83f5-4518-9ea1-6565be0ad51b@www.mundenfuneralhome.com
DTSTAMP:20260421T001758Z
DTSTART:20260424T180000Z
DTEND:20260424T190000Z
SUMMARY:Memorial Service
DESCRIPTION:
URL:https://www.mundenfuneralhome.com/obituaries/charles-clontz-jr
LOCATION:First Methodist Church 900 Arendell St  Morehead City NC 28557
GEO:34.7220209;-76.7142614
END:VEVENT
END:VCALENDAR